BEGIN:VCALENDAR
VERSION:2.0
PRODID:-//L&#039;Ôlà - Club Libertin - Bordeaux - ECPv6.15.20//NONSGML v1.0//EN
CALSCALE:GREGORIAN
METHOD:PUBLISH
X-WR-CALNAME:L&#039;Ôlà - Club Libertin - Bordeaux
X-ORIGINAL-URL:https://lolaclub.fr
X-WR-CALDESC:Évènements pour L&#039;Ôlà - Club Libertin - Bordeaux
REFRESH-INTERVAL;VALUE=DURATION:PT1H
X-Robots-Tag:noindex
X-PUBLISHED-TTL:PT1H
BEGIN:VTIMEZONE
TZID:Europe/Paris
BEGIN:DAYLIGHT
TZOFFSETFROM:+0100
TZOFFSETTO:+0200
TZNAME:CEST
DTSTART:20240331T010000
END:DAYLIGHT
BEGIN:STANDARD
TZOFFSETFROM:+0200
TZOFFSETTO:+0100
TZNAME:CET
DTSTART:20241027T010000
END:STANDARD
BEGIN:DAYLIGHT
TZOFFSETFROM:+0100
TZOFFSETTO:+0200
TZNAME:CEST
DTSTART:20250330T010000
END:DAYLIGHT
BEGIN:STANDARD
TZOFFSETFROM:+0200
TZOFFSETTO:+0100
TZNAME:CET
DTSTART:20251026T010000
END:STANDARD
BEGIN:DAYLIGHT
TZOFFSETFROM:+0100
TZOFFSETTO:+0200
TZNAME:CEST
DTSTART:20260329T010000
END:DAYLIGHT
BEGIN:STANDARD
TZOFFSETFROM:+0200
TZOFFSETTO:+0100
TZNAME:CET
DTSTART:20261025T010000
END:STANDARD
END:VTIMEZONE
BEGIN:VEVENT
DTSTART;TZID=Europe/Paris:20250814T220000
DTEND;TZID=Europe/Paris:20250815T040000
DTSTAMP:20260423T201401
CREATED:20250717T112051Z
LAST-MODIFIED:20250809T103747Z
UID:835-1755208800-1755230400@lolaclub.fr
SUMMARY:Veille de jour férié
DESCRIPTION:🔥 Pourquoi ne pas travailler… votre sensualité ?\n\n💋 Ambiance chic\, festive et libertine\n🎶 Musique envoûtante & jeux de séduction\n🍸 Bar raffiné\, lounge cosy & coins câlins\n🛁 Accès au jacuzzi minéral creusé dans la roche\n👠 Espace réservé aux couples + coin mixte\n\n💫 Une soirée pour…\nLes couples curieux\, libertins ou simplement complices \nLes femmes seules\, reines de la soirée \nLes hommes seuls\, sélectionnés avec soin \nCette soirée spéciale veille de jour férié attire une clientèle désireuse de vivre une expérience intense\, élégante et sans contraintes horaires. Venez explorer le plaisir\, rencontrer\, flirter… ou simplement observer dans une atmosphère raffinée et respectueuse. \n💰 Tarifs spéciaux veille de jour férié\n\n💑 Couples : 20 €\n👠 Libertines : Entrée offerte\n🕴 Libertins : 50 € (1 consommation incluse)
URL:https://lolaclub.fr/event/veille-de-jour-ferie/
CATEGORIES:Semaine
ATTACH;FMTTYPE=image/webp:https://lolaclub.fr/wp-content/uploads/2025/07/veille-jour-ferie-libertin-bordeaux.webp
END:VEVENT
END:VCALENDAR