BEGIN:VCALENDAR
VERSION:2.0
PRODID:-//L&#039;Ôlà - Club Libertin - Bordeaux - ECPv6.15.20//NONSGML v1.0//EN
CALSCALE:GREGORIAN
METHOD:PUBLISH
X-WR-CALNAME:L&#039;Ôlà - Club Libertin - Bordeaux
X-ORIGINAL-URL:https://lolaclub.fr
X-WR-CALDESC:Évènements pour L&#039;Ôlà - Club Libertin - Bordeaux
REFRESH-INTERVAL;VALUE=DURATION:PT1H
X-Robots-Tag:noindex
X-PUBLISHED-TTL:PT1H
BEGIN:VTIMEZONE
TZID:Europe/Paris
BEGIN:DAYLIGHT
TZOFFSETFROM:+0100
TZOFFSETTO:+0200
TZNAME:CEST
DTSTART:20240331T010000
END:DAYLIGHT
BEGIN:STANDARD
TZOFFSETFROM:+0200
TZOFFSETTO:+0100
TZNAME:CET
DTSTART:20241027T010000
END:STANDARD
BEGIN:DAYLIGHT
TZOFFSETFROM:+0100
TZOFFSETTO:+0200
TZNAME:CEST
DTSTART:20250330T010000
END:DAYLIGHT
BEGIN:STANDARD
TZOFFSETFROM:+0200
TZOFFSETTO:+0100
TZNAME:CET
DTSTART:20251026T010000
END:STANDARD
BEGIN:DAYLIGHT
TZOFFSETFROM:+0100
TZOFFSETTO:+0200
TZNAME:CEST
DTSTART:20260329T010000
END:DAYLIGHT
BEGIN:STANDARD
TZOFFSETFROM:+0200
TZOFFSETTO:+0100
TZNAME:CET
DTSTART:20261025T010000
END:STANDARD
END:VTIMEZONE
BEGIN:VEVENT
DTSTART;TZID=Europe/Paris:20251004T220000
DTEND;TZID=Europe/Paris:20251005T040000
DTSTAMP:20260423T104901
CREATED:20250909T083742Z
LAST-MODIFIED:20250915T083521Z
UID:1149-1759615200-1759636800@lolaclub.fr
SUMMARY:Strass et Paillettes
DESCRIPTION:Le Lola Club se pare de mille feux pour une soirée étincelante où le glamour\, la sensualité et l’élégance sont au rendez-vous.Préparez vos plus belles tenues à strass et paillettes\, et venez briller sous les lumières pour une nuit inoubliable. \n🌟 Au programme :\n\n\n🎶 DJ set : musique envoûtante & festive pour vous faire danser jusqu’au bout de la nuit \n\n\n🍔 De quoi se régaler : tapas gourmands\, burgers\, wraps et même quelques douceurs sucrées pour prolonger le plaisir \n\n\n💋 Coins câlins : pour des instants sensuels et raffinés en toute discrétion \n\n\n💧 Bassin minéral : accessible toute la soirée\, pour une parenthèse détente et séduction \n\n\n💎 Dress code :\nStrass\, paillettes & élégance – brillez\, osez et laissez vos envies scintiller. \n💰 Tarifs :\n\n\n💑 Couples : 60 € (1 consommation offerte par personne) \n\n\n👠 Femmes seules : entrée gratuite \n\n\n🕴️ Hommes seuls (sur sélection) : 70 € (1 consommation offerte) \n\n\n👉 Réservez vite votre place pour cette soirée libertine chic et festive\, et vivez l’expérience Lola Club dans une ambiance glamour et sensuelle.
URL:https://lolaclub.fr/event/soiree-libertine-strass-et-paillettes-bordeaux/
CATEGORIES:Weekend
ATTACH;FMTTYPE=image/webp:https://lolaclub.fr/wp-content/uploads/2025/09/soireepaillettes-lola-club-libertin-bordeaux.webp
END:VEVENT
END:VCALENDAR