BEGIN:VCALENDAR
VERSION:2.0
PRODID:-//L&#039;Ôlà - Club Libertin - Bordeaux - ECPv6.15.20//NONSGML v1.0//EN
CALSCALE:GREGORIAN
METHOD:PUBLISH
X-WR-CALNAME:L&#039;Ôlà - Club Libertin - Bordeaux
X-ORIGINAL-URL:https://lolaclub.fr
X-WR-CALDESC:Évènements pour L&#039;Ôlà - Club Libertin - Bordeaux
REFRESH-INTERVAL;VALUE=DURATION:PT1H
X-Robots-Tag:noindex
X-PUBLISHED-TTL:PT1H
BEGIN:VTIMEZONE
TZID:Europe/Paris
BEGIN:DAYLIGHT
TZOFFSETFROM:+0100
TZOFFSETTO:+0200
TZNAME:CEST
DTSTART:20240331T010000
END:DAYLIGHT
BEGIN:STANDARD
TZOFFSETFROM:+0200
TZOFFSETTO:+0100
TZNAME:CET
DTSTART:20241027T010000
END:STANDARD
BEGIN:DAYLIGHT
TZOFFSETFROM:+0100
TZOFFSETTO:+0200
TZNAME:CEST
DTSTART:20250330T010000
END:DAYLIGHT
BEGIN:STANDARD
TZOFFSETFROM:+0200
TZOFFSETTO:+0100
TZNAME:CET
DTSTART:20251026T010000
END:STANDARD
BEGIN:DAYLIGHT
TZOFFSETFROM:+0100
TZOFFSETTO:+0200
TZNAME:CEST
DTSTART:20260329T010000
END:DAYLIGHT
BEGIN:STANDARD
TZOFFSETFROM:+0200
TZOFFSETTO:+0100
TZNAME:CET
DTSTART:20261025T010000
END:STANDARD
END:VTIMEZONE
BEGIN:VEVENT
DTSTART;TZID=Europe/Paris:20250909T210000
DTEND;TZID=Europe/Paris:20250910T020000
DTSTAMP:20260423T213348
CREATED:20250729T091612Z
LAST-MODIFIED:20250908T111707Z
UID:1087-1757451600-1757469600@lolaclub.fr
SUMMARY:Fermeture exceptionnelle
DESCRIPTION:✨ Le Lola Club se refait une beauté !Nous réalisons actuellement des travaux afin de vous accueillir dans un cadre encore plus raffiné.🙏 Merci pour votre compréhension et votre patience.
URL:https://lolaclub.fr/event/les-mardis-du-lola-9-sept/
CATEGORIES:Semaine
ATTACH;FMTTYPE=image/webp:https://lolaclub.fr/wp-content/uploads/2025/07/fermeture-exceptionnelle-club-libertin-bordeaux.webp
END:VEVENT
END:VCALENDAR